BEGIN:VCALENDAR
VERSION:2.0
PRODID:-//グンマペディア　群馬の子育て情報 - ECPv6.15.17.1//NONSGML v1.0//EN
CALSCALE:GREGORIAN
METHOD:PUBLISH
X-ORIGINAL-URL:https://gunmapedia.com
X-WR-CALDESC:グンマペディア　群馬の子育て情報 のイベント
REFRESH-INTERVAL;VALUE=DURATION:PT1H
X-Robots-Tag:noindex
X-PUBLISHED-TTL:PT1H
BEGIN:VTIMEZONE
TZID:Asia/Tokyo
BEGIN:STANDARD
TZOFFSETFROM:+0900
TZOFFSETTO:+0900
TZNAME:JST
DTSTART:20230101T000000
END:STANDARD
END:VTIMEZONE
BEGIN:VEVENT
DTSTART;TZID=Asia/Tokyo:20240105T100000
DTEND;TZID=Asia/Tokyo:20240108T180000
DTSTAMP:20260426T125941
CREATED:20231226T040143Z
LAST-MODIFIED:20231226T075543Z
UID:899-1704448800-1704736800@gunmapedia.com
SUMMARY:お正月縁日大会
DESCRIPTION:【公式説明】\n1/2(火)～1/8(月･祝)のアゼリアモール各店でのお買上げレシート合計2\,000円ごとに『参加券』1枚を引換えいたします。（最高5枚まで）\nまた、現金100円でも『参加券』1枚と引換えいたします。\n『参加券』1枚でお好きな縁日ブースで1回遊べます！ \n◇1/5(金)～1/8(月･祝)\n◇10：00～18：00　※但し、景品が無くなり次第終了\n◇1F イベント広場 \n【開催ブース】　※予定\n輪投げ／射的／ピンポンカップ／お正月くじ \n※コナカ、テルル、しまむら、バースデイ、アベイル、Nima、はっぴー、limedoll、催事店舗、宝くじ売場及び一部店舗のレシートは対象外です。\n※新春プレミアムお買物券の購入レシートは対象外です。\n※ブース内容は変更する場合がございます。\n※レシートは1回限り有効です。（端数は次回の参加に持ち越しできません。）\n※他のイベントで使用したレシートは対象外です。
URL:https://gunmapedia.com/event/%e3%81%8a%e6%ad%a3%e6%9c%88%e7%b8%81%e6%97%a5%e5%a4%a7%e4%bc%9a/
LOCATION:アゼリアモール\, 群馬県館林市楠町3648-1\, 〒374-0004
ATTACH;FMTTYPE=image/png:https://gunmapedia.com/wp-content/uploads/2023/12/20240105_002.png
END:VEVENT
BEGIN:VEVENT
DTSTART;TZID=Asia/Tokyo:20240107T130000
DTEND;TZID=Asia/Tokyo:20240107T154500
DTSTAMP:20260426T125941
CREATED:20231226T035339Z
LAST-MODIFIED:20231226T080142Z
UID:895-1704632400-1704642300@gunmapedia.com
SUMMARY:描いて回してあそんでみよう／糸引きコマ
DESCRIPTION:【公式説明】 \n毎月第一日曜日は 手作りイベント『あそびの学校』を開催いたします♪ \n1月のテーマ【描いて回してあそんでみよう／糸引きコマ】 \n◇開催日　1/7(日)\n◇受付開始時間　12：45～\n◇開催時間　①13：00～14：15／②14：30～15：45　※各回先着25名様\n◇会場　2F ファミリーパーク\n◇参加対象　4歳～小学6年生\n◇参加費　無料 \n※受付につきまして\n小さなお子様とご一緒に待たれる大変さに配慮し、代表の方1名でのお並びは可能ですが、\n受付開始時刻及び受付時にご参加されるお子様がいない場合は、いかなる理由でも受付はできませんのでご了承ください。\nまた、ご家族様以外でのお子様の受付はお断りさせていただきます。\n先頭の方から何時からの開催に参加するかをお選びいただきます。ご希望に添えないかもしれませんが、\n予めご希望のお時間を決めておいていただきますとスムーズなご案内ができるかと思います。
URL:https://gunmapedia.com/event/%e6%8f%8f%e3%81%84%e3%81%a6%e5%9b%9e%e3%81%97%e3%81%a6%e3%81%82%e3%81%9d%e3%82%93%e3%81%a7%e3%81%bf%e3%82%88%e3%81%86%ef%bc%8f%e7%b3%b8%e5%bc%95%e3%81%8d%e3%82%b3%e3%83%9e/
LOCATION:アゼリアモール\, 群馬県館林市楠町3648-1\, 〒374-0004
ATTACH;FMTTYPE=image/jpeg:https://gunmapedia.com/wp-content/uploads/2023/12/20240107_003.jpg
END:VEVENT
BEGIN:VEVENT
DTSTART;TZID=Asia/Tokyo:20240120T100000
DTEND;TZID=Asia/Tokyo:20240121T170000
DTSTAMP:20260426T125941
CREATED:20240117T025407Z
LAST-MODIFIED:20240117T051659Z
UID:1210-1705744800-1705856400@gunmapedia.com
SUMMARY:学校給食パネル展
DESCRIPTION:【公式説明】 \n学校給食パネル展\n \n\n  \n \n◇日時\n1/20(土)10：00～18：00\n1/21(日)10：00～17：00\n◇場所　A館1F アゼリアホールエントランス \n【主催】\n館林市教育委員会（学校給食センター）
URL:https://gunmapedia.com/event/%e5%ad%a6%e6%a0%a1%e7%b5%a6%e9%a3%9f%e3%83%91%e3%83%8d%e3%83%ab%e5%b1%95/
LOCATION:アゼリアモール\, 群馬県館林市楠町3648-1\, 〒374-0004
ATTACH;FMTTYPE=image/jpeg:https://gunmapedia.com/wp-content/uploads/2024/01/20240120_014.jpg
END:VEVENT
END:VCALENDAR