BEGIN:VCALENDAR
VERSION:2.0
PRODID:-//グンマペディア　群馬の子育て情報 - ECPv6.15.17.1//NONSGML v1.0//EN
CALSCALE:GREGORIAN
METHOD:PUBLISH
X-WR-CALNAME:グンマペディア　群馬の子育て情報
X-ORIGINAL-URL:https://gunmapedia.com
X-WR-CALDESC:グンマペディア　群馬の子育て情報 のイベント
REFRESH-INTERVAL;VALUE=DURATION:PT1H
X-Robots-Tag:noindex
X-PUBLISHED-TTL:PT1H
BEGIN:VTIMEZONE
TZID:Asia/Tokyo
BEGIN:STANDARD
TZOFFSETFROM:+0900
TZOFFSETTO:+0900
TZNAME:JST
DTSTART:20230101T000000
END:STANDARD
END:VTIMEZONE
BEGIN:VEVENT
DTSTART;TZID=Asia/Tokyo:20240204T110000
DTEND;TZID=Asia/Tokyo:20240204T160000
DTSTAMP:20260426T113527
CREATED:20240201T052318Z
LAST-MODIFIED:20240202T014759Z
UID:1411-1707044400-1707062400@gunmapedia.com
SUMMARY:ハウジング縁日祭り
DESCRIPTION:【公式説明】 \n\n～親子で一緒に楽しもう！～\n\n◆射的\n◆ヨーヨーつり\n◆駄菓子\n親子一緒に楽しもう！\n※親子連れ限定！小学生以下のお子様が対象のイベントとなります。\n\n\n\n\n\n\n\nご来場とイベント参加の際は、住宅展示場の取り組みをご確認の上、お越しください。\n＞＞新型コロナウイルスの予防 および 拡散防止対策 について \n※上記のイベントへの参加方法につきましてはインフォメーションセンターにてご確認ください。\n※イベントの参加券を10：00から先着順に配付いたします。\n※イベント参加につきましては、アンケートをご記入いただきます。\n※同日に複数のイベント開催時は、参加できるイベントは一つになります。\n※イベント内容は変更になる場合があります。\n※イベント画像はイメージです。\n※イベントは途中休憩をいただく場合があります。 \n\n会場館林ハウジングステージ　〒374-0016 群馬県館林市松原1-19-48\n開催日時 \n\n\n2024年2月4日（日）　11:00〜16:00 \n定員：50組
URL:https://gunmapedia.com/event/%e3%83%8f%e3%82%a6%e3%82%b8%e3%83%b3%e3%82%b0%e7%b8%81%e6%97%a5%e7%a5%ad%e3%82%8a/
LOCATION:館林ハウジングステージ\, 群馬県館林市松原1-19-48\, 〒374-0016
ATTACH;FMTTYPE=image/jpeg:https://gunmapedia.com/wp-content/uploads/2024/02/20240204_006.jpg
END:VEVENT
BEGIN:VEVENT
DTSTART;TZID=Asia/Tokyo:20240204T130000
DTEND;TZID=Asia/Tokyo:20240204T154500
DTSTAMP:20260426T113528
CREATED:20240117T025623Z
LAST-MODIFIED:20240117T053509Z
UID:1213-1707051600-1707061500@gunmapedia.com
SUMMARY:【2/4】あそびの学校
DESCRIPTION:【公式説明】 \n【2/4】あそびの学校\n \n\n  \n \n毎月第一日曜日は 手作りイベント『あそびの学校』を開催いたします♪ \n2月のテーマ【鍵がかかる ふしぎな宝箱つくり】 \n◇開催日　2/4(日)\n◇受付開始時間　12：45～\n◇開催時間　①13：00～14：15／②14：30～15：45　※各回先着25名様\n◇会場　2F ファミリーパーク\n◇参加対象　4歳～小学6年生\n◇参加費　無料 \n※受付につきまして\n小さなお子様とご一緒に待たれる大変さに配慮し、代表の方1名でのお並びは可能ですが、\n受付開始時刻及び受付時にご参加されるお子様がいない場合は、いかなる理由でも受付はできませんのでご了承ください。\nまた、ご家族様以外でのお子様の受付はお断りさせていただきます。\n先頭の方から何時からの開催に参加するかをお選びいただきます。ご希望に添えないかもしれませんが、\n予めご希望のお時間を決めておいていただきますとスムーズなご案内ができるかと思います。
URL:https://gunmapedia.com/event/%e3%80%902-4%e3%80%91%e3%81%82%e3%81%9d%e3%81%b3%e3%81%ae%e5%ad%a6%e6%a0%a1/
LOCATION:アゼリアモール\, 群馬県館林市楠町3648-1\, 〒374-0004
ATTACH;FMTTYPE=image/jpeg:https://gunmapedia.com/wp-content/uploads/2024/01/20240204_005.jpg
END:VEVENT
BEGIN:VEVENT
DTSTART;TZID=Asia/Tokyo:20240210T130000
DTEND;TZID=Asia/Tokyo:20240210T153000
DTSTAMP:20260426T113528
CREATED:20240207T093628Z
LAST-MODIFIED:20240208T014250Z
UID:1483-1707570000-1707579000@gunmapedia.com
SUMMARY:たてび☆キッズウォーク
DESCRIPTION:【公式説明】 \n\n \n\n\n\n\n子どもたちが楽しみながら作品を鑑賞できるイベントです。 \nワークシートを使ったクイズやゲームをしながら、自分のペースで自由に展示室を探検します。参加記念品があります。 \n\n\n\n日時　2024年2月10日(土)、3月9日(土)　各日午後1時～3時30分\n対象　中学生以下\n受付会場　エントランスホール\n参加費　無料（保護者が付き添う場合は、保護者のみ観覧券が必要です）\n参加方法　開催時間内に館内受付会場へお越しください。\n\n\n※状況に応じて変更になることがあります。
URL:https://gunmapedia.com/event/%e3%81%9f%e3%81%a6%e3%81%b3%e2%98%86%e3%82%ad%e3%83%83%e3%82%ba%e3%82%a6%e3%82%a9%e3%83%bc%e3%82%af/
LOCATION:群馬県立館林美術館\, 群馬県館林市日向町2003\, 〒374-0076
ATTACH;FMTTYPE=image/jpeg:https://gunmapedia.com/wp-content/uploads/2024/02/20240210_010.jpg
END:VEVENT
BEGIN:VEVENT
DTSTART;TZID=Asia/Tokyo:20240210T130000
DTEND;TZID=Asia/Tokyo:20240210T160000
DTSTAMP:20260426T113528
CREATED:20240131T090506Z
LAST-MODIFIED:20240202T015124Z
UID:1363-1707570000-1707580800@gunmapedia.com
SUMMARY:【事前予約制】esports体験会
DESCRIPTION:【公式説明】 \n\nつつじが岡ふれあいセンター＜つつじ映像学習館＞で、esports体験会を開催します。 \n大型スクリーンや複数のモニターを使って、今話題のesportsを体験できます！ \n \n\n  目次\n    \n    esports体験会日時場所体験タイトル参加費参加方法\n    \n  \n\nesports体験会\n日時\n令和6年2月10日（土曜日） \n\n第一部：午後1時から\n第二部：午後2時から\n第三部：午後3時から\n\n場所\nつつじが岡ふれあいセンター つつじ映像学習館（群馬県館林市花山町3181） \n体験タイトル\n\nぷよぷよテトリス2\nスーパーボンバーマンR2\n太鼓の達人 ドンダフルフェスティバル\n\n \n参加費\n無料（つつじ映像学習館入館料は免除されます） \n参加方法\n市公式LINEを友達登録のうえ、QRコードからお申し込みください。\n \n\n注：各部1時間程度\n注：各部定員40名\n注：受付は先着順となります\n注：受付完了後に発行される受付番号は入場確認のために使用します
URL:https://gunmapedia.com/event/esports%e4%bd%93%e9%a8%93%e4%bc%9a/
LOCATION:つつじが岡ふれあいセンター\, 群馬県館林市花山町３１７６\, 〒374-0005
ATTACH;FMTTYPE=image/png:https://gunmapedia.com/wp-content/uploads/2024/01/20240210_005.png
END:VEVENT
BEGIN:VEVENT
DTSTART;TZID=Asia/Tokyo:20240223T104500
DTEND;TZID=Asia/Tokyo:20240223T154500
DTSTAMP:20260426T113528
CREATED:20240201T045040Z
LAST-MODIFIED:20240202T015710Z
UID:1405-1708685100-1708703100@gunmapedia.com
SUMMARY:理科工作教室「大空に飛んでいけ！KK式スーパー紙飛行機」
DESCRIPTION:【公式説明】\nゴムの力を利用した、すごくよく飛ぶ紙飛行機を作ります。 \n日時\n2月23日（金曜日）（祝日）10：45から11：15まで、13：45から14：15まで、15：15から15：45まで \n場所\n科学館3階工作室 \n定員\n各回6組（1組3人まで、先着順） \n参加費\n50円 \n申込み\n事前申込み不要、当日整理券を配布します。 \n整理券配布開始時間\n\n10時45分の回→9時30分\n13時45分の回→12時30分\n15時15分の回→14時0分\n\nその他\n\n1組につき、1日1回のみ参加可能\n小学2年生以下は、保護者同伴が必要
URL:https://gunmapedia.com/event/%e7%90%86%e7%a7%91%e5%b7%a5%e4%bd%9c%e6%95%99%e5%ae%a4%e3%80%8c%e5%a4%a7%e7%a9%ba%e3%81%ab%e9%a3%9b%e3%82%93%e3%81%a7%e3%81%84%e3%81%91%ef%bc%81kk%e5%bc%8f%e3%82%b9%e3%83%bc%e3%83%91%e3%83%bc%e7%b4%99/
LOCATION:向井千秋記念子ども科学館\, 館林市城町2-2
ATTACH;FMTTYPE=image/png:https://gunmapedia.com/wp-content/uploads/2024/02/20240223_002.png
END:VEVENT
BEGIN:VEVENT
DTSTART;TZID=Asia/Tokyo:20240224T093000
DTEND;TZID=Asia/Tokyo:20240224T120000
DTSTAMP:20260426T113528
CREATED:20240201T045552Z
LAST-MODIFIED:20240202T015941Z
UID:1408-1708767000-1708776000@gunmapedia.com
SUMMARY:2月科学講座
DESCRIPTION:【公式説明】 \n\n  目次\n    \n    科学講座2月科学講座の開催について日時テーマ内容場所参加費参加対象及び募集人数参加受付について\n    \n  \n\n科学講座\n科学工作や実験などを通して、科学のおもしろさや楽しさを学びます。テーマは毎回変わります。\n次回の科学講座は、2月24日（土曜日）に開催します。\n参加の受付は、2月3日（土曜日）午前9時より開始します。 \n2月科学講座の開催について\n日時\n令和6年2月24日（土曜日）\n9時30分から12時まで（受付開始9時15分から） \nテーマ\n「何度もつかえるミラクルカイロをつくろう」 \n内容\n化学変化による発熱や吸熱反応について学びながら、何度も使えるカイロづくりをします。 \n場所\n向井千秋記念子ども科学館3階実験室 \n参加費\n400円 \n参加対象及び募集人数\n小学1年生以上（小学1\,2年生は保護者同伴）先着18名 \n参加受付について\n2月3日（土曜日）午前9時より、ぐんま電子申請受付システム（こちら）から申し込んでください。
URL:https://gunmapedia.com/event/2%e6%9c%88%e7%a7%91%e5%ad%a6%e8%ac%9b%e5%ba%a7/
LOCATION:向井千秋記念子ども科学館\, 館林市城町2-2
ATTACH;FMTTYPE=image/jpeg:https://gunmapedia.com/wp-content/uploads/2024/02/20240224_004.jpg
END:VEVENT
BEGIN:VEVENT
DTSTART;TZID=Asia/Tokyo:20240224T133000
DTEND;TZID=Asia/Tokyo:20240224T153000
DTSTAMP:20260426T113528
CREATED:20240207T094044Z
LAST-MODIFIED:20240208T015151Z
UID:1489-1708781400-1708788600@gunmapedia.com
SUMMARY:たてび☆びじゅつ部　君も彫刻家！～紙粘土で小さな立体作品をつくろう～
DESCRIPTION:【公式説明】 \n \n\n子どもから大人まで誰でも気軽に参加できる造形体験コーナーです。今回は「ヒューマンビーイング」展にちなみ、紙粘土を材料に自分だけの小さな彫刻を作ります。自由に考えて作った作品を、紙コップの台座の上に展示して見ましょう。 \n※制作した作品はお持ち帰りいただけます。 \n\n\n\n日時　2024年2月24日(土)　午後1時30分～3時30分（制作時間：約30分）\n※開催時間中、自由な時間に参加できます。\n※最終受付時間は午後3時15分まで。\n対象　幼児～一般（小学3年生以下は、保護者同伴）\n会場　別館ワークショップ室\n参加費　無料\n参加方法　直接会場へお越しください。\n\n\n※状況に応じて変更になることがあります。
URL:https://gunmapedia.com/event/%e3%81%9f%e3%81%a6%e3%81%b3%e2%98%86%e3%81%b3%e3%81%98%e3%82%85%e3%81%a4%e9%83%a8%e3%80%80%e5%90%9b%e3%82%82%e5%bd%ab%e5%88%bb%e5%ae%b6%ef%bc%81%ef%bd%9e%e7%b4%99%e7%b2%98%e5%9c%9f%e3%81%a7%e5%b0%8f/
LOCATION:群馬県立館林美術館\, 群馬県館林市日向町2003\, 〒374-0076
ATTACH;FMTTYPE=image/jpeg:https://gunmapedia.com/wp-content/uploads/2024/02/20240224_006.jpg
END:VEVENT
END:VCALENDAR