BEGIN:VCALENDAR
VERSION:2.0
PRODID:-//グンマペディア　群馬の子育て情報 - ECPv6.15.17.1//NONSGML v1.0//EN
CALSCALE:GREGORIAN
METHOD:PUBLISH
X-ORIGINAL-URL:https://gunmapedia.com
X-WR-CALDESC:グンマペディア　群馬の子育て情報 のイベント
REFRESH-INTERVAL;VALUE=DURATION:PT1H
X-Robots-Tag:noindex
X-PUBLISHED-TTL:PT1H
BEGIN:VTIMEZONE
TZID:Asia/Tokyo
BEGIN:STANDARD
TZOFFSETFROM:+0900
TZOFFSETTO:+0900
TZNAME:JST
DTSTART:20230101T000000
END:STANDARD
END:VTIMEZONE
BEGIN:VEVENT
DTSTART;TZID=Asia/Tokyo:20240302T100000
DTEND;TZID=Asia/Tokyo:20240302T110000
DTSTAMP:20260426T084335
CREATED:20240227T030611Z
LAST-MODIFIED:20240227T084954Z
UID:1701-1709373600-1709377200@gunmapedia.com
SUMMARY:【事前予約制】「オリジナルこいのぼりを作ろう！」ワークショップ
DESCRIPTION:【公式説明】 \nこいのぼりの里まつりに掲揚するこいのぼりを作りませんか？ \n約1mの無地こいのぼりに絵の具やペンで色付けし、オリジナルこいのぼりを製作します。 \n \n\n  目次\n    \n    「オリジナルこいのぼりを作ろう！」ワークショップときところ対象定員参加費申込み\n    \n  \n\n「オリジナルこいのぼりを作ろう！」ワークショップ\nとき\n\n3月2日（土曜日）\n第一部：午前10時から\n第二部：午前11時から\n\nところ\nシュガーヒルカフェ（群馬県館林市花山町3181） \n対象\n小学生以上のかた \n定員\n各部30人程度（先着順） \n参加費\n一人600円 \n申込み\n市公式LINEを友達登録のうえ、以下QRコードからお申し込みください。\n \n\n注：デザインはオリジナルのものに限ります。\n注：企業広告などを含む製作や寄付は受付できません。\n注：製作途中に発生したこいのぼりの破損については申込者の責任とし、交換等は受け付けません。\n注：長期にわたる屋外掲揚のため、雨による劣化、強風による紛失の可能性があります。\n注：劣化などにより使用できなくなった場合は、こちらの判断により掲揚を終了する場合があります。\n注：当日は汚れてもよい服装でお越しください。\n注：製作にあたり、ご持参いただくものはありません。\n注：悪天候の場合はつつじ映像学習館内で実施します。
URL:https://gunmapedia.com/event/%e3%80%90%e4%ba%8b%e5%89%8d%e4%ba%88%e7%b4%84%e5%88%b6%e3%80%91%e3%80%8c%e3%82%aa%e3%83%aa%e3%82%b8%e3%83%8a%e3%83%ab%e3%81%93%e3%81%84%e3%81%ae%e3%81%bc%e3%82%8a%e3%82%92%e4%bd%9c%e3%82%8d%e3%81%86/
LOCATION:シュガーヒルカフェ\, 群馬県館林市花山町３１８１\, 〒374-0005
ATTACH;FMTTYPE=image/png:https://gunmapedia.com/wp-content/uploads/2024/02/20240302_007.png
END:VEVENT
BEGIN:VEVENT
DTSTART;TZID=Asia/Tokyo:20240303T124500
DTEND;TZID=Asia/Tokyo:20240303T154500
DTSTAMP:20260426T084335
CREATED:20240219T093435Z
LAST-MODIFIED:20240221T015556Z
UID:1616-1709469900-1709480700@gunmapedia.com
SUMMARY:【3/3】あそびの学校
DESCRIPTION:【公式説明】 \n\n \n毎月第一日曜日は 手作りイベント『あそびの学校』を開催いたします♪（2024年4月まで） \n3月のテーマ【何通りもの組み合わせ／ダンボールキューブ迷路】 \n◇開催日　3/3(日)\n◇受付開始時間　12：45～\n◇開催時間　①13：00～14：15／②14：30～15：45　※各回先着25名様\n◇会場　2F ファミリーパーク\n◇参加対象　4歳～小学6年生\n◇参加費　無料 \n※受付につきまして\n小さなお子様とご一緒に待たれる大変さに配慮し、代表の方1名でのお並びは可能ですが、\n受付開始時刻及び受付時にご参加されるお子様がいない場合は、いかなる理由でも受付はできませんのでご了承ください。\nまた、ご家族様以外でのお子様の受付はお断りさせていただきます。\n先頭の方から何時からの開催に参加するかをお選びいただきます。ご希望に添えないかもしれませんが、\n予めご希望のお時間を決めておいていただきますとスムーズなご案内ができるかと思います。
URL:https://gunmapedia.com/event/%e3%80%903-3%e3%80%91%e3%81%82%e3%81%9d%e3%81%b3%e3%81%ae%e5%ad%a6%e6%a0%a1/
LOCATION:アゼリアモール\, 群馬県館林市楠町3648-1\, 〒374-0004
ATTACH;FMTTYPE=application/pdf:https://gunmapedia.com/wp-content/uploads/2024/02/20240303_005.pdf
END:VEVENT
BEGIN:VEVENT
DTSTART;TZID=Asia/Tokyo:20240309T100000
DTEND;TZID=Asia/Tokyo:20240309T150000
DTSTAMP:20260426T084335
CREATED:20240219T085552Z
LAST-MODIFIED:20240221T020227Z
UID:1606-1709978400-1709996400@gunmapedia.com
SUMMARY:まちなかマーケット～花咲く季節に逢いませうvol.2～
DESCRIPTION:【公式説明】 \nじぶんがやりたいことや得意なことからちいさなしごとを生み出し、地域へアクション！\n自分のワクワクをもとにチャレンジする女性向けビジネス講座「わたしたちの月3万円ビジネス」。 \n館林の卒業生たちが「まちなかマーケットから花咲く季節に逢いませうvol.2」を開催します。 \n好きなことで暮らしをたのしく。\n得意なことでまちに飛び出す。 \nそんな思いが集まる、まちなかマーケットにぜひご来場ください。 \n\n  目次\n    \n    ときところ内容主催等まちなかマーケット実行委員会からのメッセージ3ビズとは\n    \n  \n\nとき\n3月9日（土曜日）\n午前10時から午後3時 \nところ\n谷越会館・青梅天満宮（本町2丁目8-22） \n内容\n商品販売、体験ワークショップなどが出店します。\n詳しくは、チラシ又は公式インスタグラム(随時情報更新中！）をご覧ください。 \n【チラシ】まちなかマーケット（PDF:9.8MB） \nまちなかマーケット公式Instagram（外部サイトにリンクします） \n \n主催等\n主催：館林まちなかマーケット実行委員会（わたしたちの月3万円ビジネス卒業生団体）\n後援：館林市 \nまちなかマーケット実行委員会からのメッセージ\n社会にいいことだけをテーマに、自分が本当にやりたかったこと、自分の得意や長所を活かせることで、愉しく稼ごうという考え方で、非電化工房の藤村靖之先生の著書『月3万円ビジネス』で提唱されている哲学をベースに考えられた『わたしたちの月3万円ビジネス』。 \n館林では今年度までで1期生・2期生・3期生合わせて37名が受講し、約5か月かけて自分の好きやワクワクに向き合ってきたビジネスを各地のマーケットや自分自身が主催する講座として実践しています。 \nそんなメンバーが集まって、館林のまちを盛り上げるべく、「日常にマーケットを」を合言葉に「トライ＆エラーを繰り返しながら実践している姿」をまちなかでも見せていきます。 \n30代から70代までの女性が、自分たちが住んでいる館林のために活動しています。\nよかったら是非見に来てくださいね。子どもたちももちろん楽しめる、そして、お母さんやお父さんも楽しめるイベントとなっています。\nゆっくり館林市内で過ごしてみませんか？ \n3ビズとは\nやりたいことや得意なことから小さなビジネスを生み出し、月に3万円稼ぐ「月3万円ビジネス」。\n創業の新しいモデル、子育て世代の新しい働き方として全国で注目されています。 \n3ビズ講座（市HP）について\n3ビズinたてばやしHP
URL:https://gunmapedia.com/event/%e3%81%be%e3%81%a1%e3%81%aa%e3%81%8b%e3%83%9e%e3%83%bc%e3%82%b1%e3%83%83%e3%83%88%ef%bd%9e%e8%8a%b1%e5%92%b2%e3%81%8f%e5%ad%a3%e7%af%80%e3%81%ab%e9%80%a2%e3%81%84%e3%81%be%e3%81%9b%e3%81%86vol-2/
LOCATION:谷越会館\, 群馬県館林市本町２丁目８−２２\, 〒374-0024
ATTACH;FMTTYPE=application/pdf:https://gunmapedia.com/wp-content/uploads/2024/02/20240309_003.pdf
END:VEVENT
BEGIN:VEVENT
DTSTART;TZID=Asia/Tokyo:20240309T130000
DTEND;TZID=Asia/Tokyo:20240309T153000
DTSTAMP:20260426T084335
CREATED:20240207T093803Z
LAST-MODIFIED:20240208T020306Z
UID:1487-1709989200-1709998200@gunmapedia.com
SUMMARY:たてび☆キッズウォーク
DESCRIPTION:【公式説明】 \n \n\n子どもたちが楽しみながら作品を鑑賞できるイベントです。 \nワークシートを使ったクイズやゲームをしながら、自分のペースで自由に展示室を探検します。参加記念品があります。 \n\n\n\n日時　2024年2月10日(土)、3月9日(土)　各日午後1時～3時30分\n対象　中学生以下\n受付会場　エントランスホール\n参加費　無料（保護者が付き添う場合は、保護者のみ観覧券が必要です）\n参加方法　開催時間内に館内受付会場へお越しください。\n\n\n※状況に応じて変更になることがあります。
URL:https://gunmapedia.com/event/%e3%81%9f%e3%81%a6%e3%81%b3%e2%98%86%e3%82%ad%e3%83%83%e3%82%ba%e3%82%a6%e3%82%a9%e3%83%bc%e3%82%af-2/
LOCATION:群馬県立館林美術館\, 群馬県館林市日向町2003\, 〒374-0076
ATTACH;FMTTYPE=image/jpeg:https://gunmapedia.com/wp-content/uploads/2024/02/20240210_010.jpg
END:VEVENT
BEGIN:VEVENT
DTSTART;TZID=Asia/Tokyo:20240316T100000
DTEND;TZID=Asia/Tokyo:20240316T140000
DTSTAMP:20260426T084335
CREATED:20240131T090902Z
LAST-MODIFIED:20240202T013906Z
UID:1368-1710583200-1710597600@gunmapedia.com
SUMMARY:第18回動物とのふれあいin中央公園
DESCRIPTION:【公式説明】 \n\n\n  目次\n    \n    ときところ内容参加費臨時駐車場ポニー乗馬体験受付時間1回目2回目3回目対象年齢人数その他うさぎとのふれあい体験開催時間1回目2回目3回目4回目5回目6回目7回目対象年齢人数その他ミニチュアホースの駆け足調教見学開催時間お願い主催関連リンク\n    \n  \n\nとき\n令和6年3月16日（土曜日）午前10時から午後2時\n雨天中止 \nところ\n中央公園（緑町二丁目17番） \n内容\n\nミニチュアホース・ヤギ・うさぎのエサやり体験\n注意：エサは会場に用意してありますので、お持ち込みはしないでください\nポニー乗馬体験（下記参照）\nミニチュアホースとの記念撮影、駆け足調教公開\nヤギ・うさぎのふれいあい体験（下記参照）\n模擬店（売上金の一部は動物のエサ代にあてさせていただきます）\nピアノ演奏（子どもたちのリクエストに応えます）\nキッチンカー（3から4店舗出店予定）\nぽんちゃんも来園！！\n\n参加費\n入場無料 \n臨時駐車場\nグラウンド内約50台（公園東側入口より入場） \nポニー乗馬体験\n受付時間\n1回目\n午前10時から（乗馬は午前10時15分から） \n2回目\n午前11時から（乗馬は午前11時15分から） \n3回目\n午後1時から（乗馬は午後1時15分から） \n対象年齢\n3歳から中学生 \n人数\n各回15人まで \nその他\n\n希望者多数の場合には、先着順となります\n乗馬は1人1回まででお願いします\n乗馬には、保護者の誓約書が必要となります（当日会場でご記入ください）\n小さいお子様は、お兄さん・お姉さんと乗ります\n当日のポニーの体調により、受付人数が変更になったり、中止となる場合があります\n\n \nうさぎとのふれあい体験\n開催時間\n1回目\n午前10時から午前10時15分 \n2回目\n午前10時30分から午前10時45分 \n3回目\n午前11時から午前11時15分 \n4回目\n午前11時30分から午前11時45分 \n5回目\n午後0時45分から午後1時 \n6回目\n午後1時15分から午後1時30分 \n7回目\n午後1時45分から午後2時 \n対象年齢\nどなたでも触れ合えますが、小学校低学年以下のお子様には必ず保護者のかたの付き添いをお願いします \n人数\n各回少人数でふれあい、順次入れ替わり制です \nその他\n\n小学校低学年以下のお子様には必ず保護者のかたの付き添いをお願いします\n当日のうさぎの状況により、開催時間の変更や中止の場合があります\n\nミニチュアホースの駆け足調教見学\n開催時間\n未定（午前1回、午後1回を予定）\nイベント開催時間内に、キキ（ミニチュアホース）の体調を確認しながら、会場で随時アナウンスします！\n小さいけれど、目の前を走り抜けるキキの迫力はすごい！！お楽しみに！！ \n \nお願い\n\n中央公園は、市内で唯一動物たちとふれあうことのできる公園です\n動物たちの体調や環境によっては、頭突きやキックをしてしまうこともありますので、動物たちの近くでふれあう際は保護者のかたの付き添いをお願いします\n動物たちの誤飲防止のため、ビニール袋や小さなものは、動物の近くに行く際やふれあいの際は手に持たずバッグの中に入れてください\n環境配慮のため、マイバックの持参やゴミのお持ち帰りをお願いします\n\n主催\n株式会社中島園芸 \n\n\n\n \n\n\n\n\n関連リンク\n\n中央公園
URL:https://gunmapedia.com/event/%e7%ac%ac18%e5%9b%9e%e5%8b%95%e7%89%a9%e3%81%a8%e3%81%ae%e3%81%b5%e3%82%8c%e3%81%82%e3%81%84in%e4%b8%ad%e5%a4%ae%e5%85%ac%e5%9c%92/
LOCATION:中央公園（館林）\, 群馬県館林市緑町２丁目１７\, 〒374-0025
ATTACH;FMTTYPE=image/jpeg:https://gunmapedia.com/wp-content/uploads/2024/01/20240316_001.jpg
END:VEVENT
BEGIN:VEVENT
DTSTART;VALUE=DATE:20240323
DTEND;VALUE=DATE:20240511
DTSTAMP:20260426T084335
CREATED:20240304T062734Z
LAST-MODIFIED:20240304T091110Z
UID:1863-1711152000-1715385599@gunmapedia.com
SUMMARY:館林さくらとこいのぼりの里まつり
DESCRIPTION:【公式説明】 \n\n\n  目次\n    \n    ここにしかない絶景を見に行こう館林さくらまつりときところお問い合わせ先鶴生田川両岸イベントときところ内容お問い合わせ先近藤沼公園イベントときところ内容（時間）お問い合わせ先多々良保安林イベントときところ内容お問い合わせ先こいのぼりの里まつりときところ内容お問い合わせ先関連リンク\n    \n  \n\nここにしかない絶景を見に行こう\n \n館林さくらまつり\nとき\n3月23日（土曜日）から4月9日（火曜日）\nぼんぼりの点灯は午後6時から午後10時（近藤沼公園は21時まで） \nところ\n\n鶴生田川両岸（城町他）\n近藤沼公園\n多々良保安林\n\nお問い合わせ先\n館林市観光協会 \n電話：0276-74-5233 \n \n鶴生田川両岸イベント\nとき\n3月30日（土曜日）午前9時30分から午後2時 \nところ\n館林城ゆめひろば \n内容\n\nとりせんチャリティーイベント芋煮会\n物産販売\nステージイベントなど\n\nお問い合わせ先\n館林市観光協会 \n電話：0276-74-5233 \n近藤沼公園イベント\nとき\n4月7日（日曜日） \nところ\n近藤沼公園多目的広場 \n内容（時間）\n\nグラウンドゴルフ大会（午前10時30分から）\n豚汁・お茶サービス（午前10時30分から）\n三野谷さくらの音楽会（午前11時45分から）\n\nお問い合わせ先\n三野谷地区さくらまつり実行委員会（三野谷公民館内） \n電話：0276-73-4062 \n多々良保安林イベント\nとき\n4月7日（日曜日）午前9時から \nところ\n多々良公民館前 \n内容\n\n彫刻の小径音楽会\nお茶・豚汁などサービス\n焼きそばなどの販売\n\nお問い合わせ先\n多々良地区さくらまつり実行委員会（多々良公民館内） \n電話：0276-74-9174 \n\n注：多々良保安林のぼんぼり点灯はありません。\n注：予定は変更になる場合があります。\n注：各イベントのサービス品はなくなり次第終了となります。 \nこいのぼりの里まつり\nとき\n3月23日（土曜日）から5月10日（金曜日） \nところ\n\n鶴生田川（市役所前・成島町）\n近藤沼\n茂林寺川\n多々良沼\n\n内容\n市内4会場合わせて計4\,000匹越えのこいのぼりが掲揚されます。 \n\n鶴生田川会場（市役所前）のこいのぼりライトアップ（午後6時から午後10時）\n世界自閉症啓発デーブルーライトアップ（4月2日（火曜日））\n\nお問い合わせ先\n館林市観光協会 \n電話：0276-74-5233 \n\n\n\n関連リンク\n\n館林市観光協会ホームページ（外部サイトにリンクします）
URL:https://gunmapedia.com/event/%e9%a4%a8%e6%9e%97%e3%81%95%e3%81%8f%e3%82%89%e3%81%a8%e3%81%93%e3%81%84%e3%81%ae%e3%81%bc%e3%82%8a%e3%81%ae%e9%87%8c%e3%81%be%e3%81%a4%e3%82%8a/
ATTACH;FMTTYPE=image/png:https://gunmapedia.com/wp-content/uploads/2024/03/20240323_004.png
END:VEVENT
BEGIN:VEVENT
DTSTART;TZID=Asia/Tokyo:20240323T100000
DTEND;TZID=Asia/Tokyo:20240323T150000
DTSTAMP:20260426T084335
CREATED:20240304T063939Z
LAST-MODIFIED:20240304T091523Z
UID:1870-1711188000-1711206000@gunmapedia.com
SUMMARY:多々良沼フェスタ
DESCRIPTION:【公式説明】 \n\n多々良沼フェスタ 2024.3.23【イベント】\n\n\n\n日時\n2024年3月23日(土) 10:00-15:00\n※小雨決行・雨天中止 \n場所\n多々良沼公園松沼北駐車場見晴台付近 (群馬県館林市松沼町28) \n内容\n\nアナベルを植えよう\n芝すべり\n記念フォトスポット\nおいしい楽しいショップ\n音楽生演奏\n\n出店者一覧 \n \n主催\n(有)川島植物園 \n協力\n館林ウエストファームマーケット / 館林グルメソサエティ組合 / 館林市役所 / 緑のまち推進課 \nリンク\n川島植物園 Instagram \n館林ウエストファームマーケット Facebook \n地図\n \n注意事項\n上記内容は確認の上記載していますが、誤りなどある場合がございます。また、イベントは日時内容など変更になる場合があります。参加される際には必ず主催者からの情報を確認してください。
URL:https://gunmapedia.com/event/%e5%a4%9a%e3%80%85%e8%89%af%e6%b2%bc%e3%83%95%e3%82%a7%e3%82%b9%e3%82%bf/
LOCATION:多々良沼公園松沼北駐車場見晴台\, 群馬県館林市松沼町２８\, 〒374-0056
ATTACH;FMTTYPE=image/jpeg:https://gunmapedia.com/wp-content/uploads/2024/03/20240323_005.jpg
END:VEVENT
BEGIN:VEVENT
DTSTART;TZID=Asia/Tokyo:20240323T100000
DTEND;TZID=Asia/Tokyo:20240331T150000
DTSTAMP:20260426T084335
CREATED:20240304T063335Z
LAST-MODIFIED:20240304T090328Z
UID:1866-1711188000-1711897200@gunmapedia.com
SUMMARY:「謎」展
DESCRIPTION:【公式説明】 \n「謎」展を開催します\n\n\n  目次\n    \n    とき場所関連リンク\n    \n  \n\nとき\n令和6年3月23日（土曜日）から31日（日曜日）\n各日午前10時から午後3時まで \n場所\n旧秋元別邸（館林市尾曳町8-1） \n\n\n\n\n関連リンク\n\n旧秋元別邸（つつじが岡公園公式ホームページ）（外部サイトにリンクします）
URL:https://gunmapedia.com/event/%e3%80%8c%e8%ac%8e%e3%80%8d%e5%b1%95/
LOCATION:旧秋元別邸\, 群馬県館林市尾曳町８−１\, 〒374-0019
ATTACH;FMTTYPE=image/jpeg:https://gunmapedia.com/wp-content/uploads/2024/03/20240323_004.jpg
END:VEVENT
END:VCALENDAR