BEGIN:VCALENDAR
VERSION:2.0
PRODID:-//グンマペディア　群馬の子育て情報 - ECPv6.15.17.1//NONSGML v1.0//EN
CALSCALE:GREGORIAN
METHOD:PUBLISH
X-ORIGINAL-URL:https://gunmapedia.com
X-WR-CALDESC:グンマペディア　群馬の子育て情報 のイベント
REFRESH-INTERVAL;VALUE=DURATION:PT1H
X-Robots-Tag:noindex
X-PUBLISHED-TTL:PT1H
BEGIN:VTIMEZONE
TZID:Asia/Tokyo
BEGIN:STANDARD
TZOFFSETFROM:+0900
TZOFFSETTO:+0900
TZNAME:JST
DTSTART:20230101T000000
END:STANDARD
END:VTIMEZONE
BEGIN:VEVENT
DTSTART;VALUE=DATE:20240323
DTEND;VALUE=DATE:20240511
DTSTAMP:20260425T221615
CREATED:20240304T062734Z
LAST-MODIFIED:20240304T091110Z
UID:1863-1711152000-1715385599@gunmapedia.com
SUMMARY:館林さくらとこいのぼりの里まつり
DESCRIPTION:【公式説明】 \n\n\n  目次\n    \n    ここにしかない絶景を見に行こう館林さくらまつりときところお問い合わせ先鶴生田川両岸イベントときところ内容お問い合わせ先近藤沼公園イベントときところ内容（時間）お問い合わせ先多々良保安林イベントときところ内容お問い合わせ先こいのぼりの里まつりときところ内容お問い合わせ先関連リンク\n    \n  \n\nここにしかない絶景を見に行こう\n \n館林さくらまつり\nとき\n3月23日（土曜日）から4月9日（火曜日）\nぼんぼりの点灯は午後6時から午後10時（近藤沼公園は21時まで） \nところ\n\n鶴生田川両岸（城町他）\n近藤沼公園\n多々良保安林\n\nお問い合わせ先\n館林市観光協会 \n電話：0276-74-5233 \n \n鶴生田川両岸イベント\nとき\n3月30日（土曜日）午前9時30分から午後2時 \nところ\n館林城ゆめひろば \n内容\n\nとりせんチャリティーイベント芋煮会\n物産販売\nステージイベントなど\n\nお問い合わせ先\n館林市観光協会 \n電話：0276-74-5233 \n近藤沼公園イベント\nとき\n4月7日（日曜日） \nところ\n近藤沼公園多目的広場 \n内容（時間）\n\nグラウンドゴルフ大会（午前10時30分から）\n豚汁・お茶サービス（午前10時30分から）\n三野谷さくらの音楽会（午前11時45分から）\n\nお問い合わせ先\n三野谷地区さくらまつり実行委員会（三野谷公民館内） \n電話：0276-73-4062 \n多々良保安林イベント\nとき\n4月7日（日曜日）午前9時から \nところ\n多々良公民館前 \n内容\n\n彫刻の小径音楽会\nお茶・豚汁などサービス\n焼きそばなどの販売\n\nお問い合わせ先\n多々良地区さくらまつり実行委員会（多々良公民館内） \n電話：0276-74-9174 \n\n注：多々良保安林のぼんぼり点灯はありません。\n注：予定は変更になる場合があります。\n注：各イベントのサービス品はなくなり次第終了となります。 \nこいのぼりの里まつり\nとき\n3月23日（土曜日）から5月10日（金曜日） \nところ\n\n鶴生田川（市役所前・成島町）\n近藤沼\n茂林寺川\n多々良沼\n\n内容\n市内4会場合わせて計4\,000匹越えのこいのぼりが掲揚されます。 \n\n鶴生田川会場（市役所前）のこいのぼりライトアップ（午後6時から午後10時）\n世界自閉症啓発デーブルーライトアップ（4月2日（火曜日））\n\nお問い合わせ先\n館林市観光協会 \n電話：0276-74-5233 \n\n\n\n関連リンク\n\n館林市観光協会ホームページ（外部サイトにリンクします）
URL:https://gunmapedia.com/event/%e9%a4%a8%e6%9e%97%e3%81%95%e3%81%8f%e3%82%89%e3%81%a8%e3%81%93%e3%81%84%e3%81%ae%e3%81%bc%e3%82%8a%e3%81%ae%e9%87%8c%e3%81%be%e3%81%a4%e3%82%8a/
ATTACH;FMTTYPE=image/png:https://gunmapedia.com/wp-content/uploads/2024/03/20240323_004.png
END:VEVENT
BEGIN:VEVENT
DTSTART;TZID=Asia/Tokyo:20240505T100000
DTEND;TZID=Asia/Tokyo:20240505T113000
DTSTAMP:20260425T221615
CREATED:20240415T081155Z
LAST-MODIFIED:20240415T090251Z
UID:2308-1714903200-1714908600@gunmapedia.com
SUMMARY:みんなであそぼ!! ★こどもの日スペシャル★
DESCRIPTION:【公式説明】 \n\n  目次\n    \n    こどもの日特別投影「こぐま座のティオ」とき場所内容申込み\n    \n  \n\nこどもの日特別投影「こぐま座のティオ」\n5月5日（日・祝）「こどもの日」はみんな大好きなプラネタリウム絵本『こぐま座のティオ』を投影します。\nプラネタリウムの前に、みんなで手遊びやクイズを行います。\nプラネタリウムをはじめて見るお子さまも一緒に楽しめるイベントです。\n子どもたちにはプレゼントがあるよ！ \nとき\n令和6年5月5日(日・祝）10時00分の回と11時30分の回\n投影前に手遊び&クイズ（約15分）と本編（約30分） \n場所\nプラネタリウム \n内容\nプラネタリウム絵本「こぐま座のティオ星空だいぼうけん」10：00の回\nプラネタリウム絵本「こぐま座のティオ12星座のなかまたち」11：30の回\nそれぞれ投影前に手遊び&クイズ（約15分）を行った後で本編投影（約30分） \n【料金】\n高校生以上550円\n小・中学生220円\n未就学児は無料\n注：高校生以上は別途入館料がかかります。 \n申込み\n当日会場へ
URL:https://gunmapedia.com/event/%e3%81%bf%e3%82%93%e3%81%aa%e3%81%a7%e3%81%82%e3%81%9d%e3%81%bc-%e2%98%85%e3%81%93%e3%81%a9%e3%82%82%e3%81%ae%e6%97%a5%e3%82%b9%e3%83%9a%e3%82%b7%e3%83%a3%e3%83%ab%e2%98%85-2/
LOCATION:向井千秋記念子ども科学館\, 館林市城町2-2
ATTACH;FMTTYPE=image/png:https://gunmapedia.com/wp-content/uploads/2024/04/20240505_005.png
END:VEVENT
BEGIN:VEVENT
DTSTART;TZID=Asia/Tokyo:20240505T100000
DTEND;TZID=Asia/Tokyo:20240505T233000
DTSTAMP:20260425T221615
CREATED:20240409T090823Z
LAST-MODIFIED:20240411T051457Z
UID:2200-1714903200-1714951800@gunmapedia.com
SUMMARY:みんなであそぼ!! ★こどもの日スペシャル★
DESCRIPTION:【公式説明】 \n\n\n  目次\n    \n    こどもの日特別投影「こぐま座のティオ」とき場所内容申込み\n    \n  \n\nこどもの日特別投影「こぐま座のティオ」\n5月5日（日・祝）「こどもの日」はみんな大好きなプラネタリウム絵本『こぐま座のティオ』を投影します。\nプラネタリウムの前に、みんなで手遊びやクイズを行います。\nプラネタリウムをはじめて見るお子さまも一緒に楽しめるイベントです。\n子どもたちにはプレゼントがあるよ！ \nとき\n令和6年5月5日(日・祝）10時00分の回と11時30分の回\n投影前に手遊び&クイズ（約15分）と本編（約30分） \n場所\nプラネタリウム \n内容\nプラネタリウム絵本「こぐま座のティオ星空だいぼうけん」10：00の回\nプラネタリウム絵本「こぐま座のティオ12星座のなかまたち」11：30の回\nそれぞれ投影前に手遊び&クイズ（約15分）を行った後で本編投影（約30分） \n【料金】\n高校生以上550円\n小・中学生220円\n未就学児は無料\n注：高校生以上は別途入館料がかかります。 \n申込み\n当日会場へ
URL:https://gunmapedia.com/event/%e3%81%bf%e3%82%93%e3%81%aa%e3%81%a7%e3%81%82%e3%81%9d%e3%81%bc-%e2%98%85%e3%81%93%e3%81%a9%e3%82%82%e3%81%ae%e6%97%a5%e3%82%b9%e3%83%9a%e3%82%b7%e3%83%a3%e3%83%ab%e2%98%85/
LOCATION:向井千秋記念子ども科学館\, 館林市城町2-2
ATTACH;FMTTYPE=image/png:https://gunmapedia.com/wp-content/uploads/2024/04/20240505_003.png
END:VEVENT
BEGIN:VEVENT
DTSTART;TZID=Asia/Tokyo:20240505T135000
DTEND;TZID=Asia/Tokyo:20240505T142000
DTSTAMP:20260425T221615
CREATED:20240409T090618Z
LAST-MODIFIED:20240411T051600Z
UID:2197-1714917000-1714918800@gunmapedia.com
SUMMARY:えほんdeかがく
DESCRIPTION:【公式説明】 \n\n幼児等を対象にした科学に関する絵本の読み聞かせのあとに、それにちなんだ科学あそびをします。子どもとその保護者のかたが一緒に参加できる楽しいイベントです。\n科学の「はじめのいっぽ」を応援します！ \n\n  目次\n    \n    次回の開催について日時テーマ場所対象定員参加費\n    \n  \n\n次回の開催について\n日時\n令和6年5月5日（日曜日）\n13時50分から14時20分まで \nテーマ\n「ま・ん・な・か」 \n場所\n科学館3階会議室 \n対象\n来館中の保護者（祖父母等を含む）とその子ども（未就学児、小学生） \n定員\n15組程度（当日、正午から整理券を配布します。先着順） \n参加費\n無料
URL:https://gunmapedia.com/event/%e3%81%88%e3%81%bb%e3%82%93de%e3%81%8b%e3%81%8c%e3%81%8f/
LOCATION:向井千秋記念子ども科学館\, 館林市城町2-2
ATTACH;FMTTYPE=image/png:https://gunmapedia.com/wp-content/uploads/2024/04/20240505_002.png
END:VEVENT
BEGIN:VEVENT
DTSTART;TZID=Asia/Tokyo:20240518T080000
DTEND;TZID=Asia/Tokyo:20240518T170000
DTSTAMP:20260425T221615
CREATED:20240422T032350Z
LAST-MODIFIED:20240513T060313Z
UID:2351-1716019200-1716051600@gunmapedia.com
SUMMARY:科学館MayMarket
DESCRIPTION:【公式説明】 \n \n【お知らせ】5月18日（土）am10:00~pm15:30\n館林ウェストファームマーケットからの開催お知らせになります。\nさくら舞い散る春の季節になり、とても暖かい日が続くようになりましたね。\n5月の館林ウェストファームマーケットは向井千秋記念子ども科学館前にてお子様・ご家族向けにワークショップを中心とした店舗とキッチンカーや物販店がたちならびます。\n日頃、学校などではゆっくりとモノづくりの時間も限られてしまい、集中して楽しみながら、ハンドメイドでの作品を作ることもしづらいと思い、少しでもお子様たちにモノづくりの良さを知って頂こうと今回、科学館様と文化振興課様の協力も得ながら『科学館MayMarket』を開催致します。\n当日はスタンプラリーをすると文化振興課様の里沼キャラクターのカードが都度いただけたり、夜の19:00からは向井千秋記念子ども科学館の上で夜間天体観望会を開催したりします。\n朝から夜まで楽しめるイベントが目白押しのため是非、みなさまご家族・お子様・ご友人の方々とご来場くださいませ！\nお待ち申し上げております。
URL:https://gunmapedia.com/event/%e7%a7%91%e5%ad%a6%e9%a4%a8maymarket/
LOCATION:向井千秋記念子ども科学館\, 館林市城町2-2
ATTACH;FMTTYPE=image/jpeg:https://gunmapedia.com/wp-content/uploads/2024/04/20240518_005.jpg
END:VEVENT
END:VCALENDAR