BEGIN:VCALENDAR
VERSION:2.0
PRODID:-//グンマペディア　群馬の子育て情報 - ECPv6.15.17.1//NONSGML v1.0//EN
CALSCALE:GREGORIAN
METHOD:PUBLISH
X-ORIGINAL-URL:https://gunmapedia.com
X-WR-CALDESC:グンマペディア　群馬の子育て情報 のイベント
REFRESH-INTERVAL;VALUE=DURATION:PT1H
X-Robots-Tag:noindex
X-PUBLISHED-TTL:PT1H
BEGIN:VTIMEZONE
TZID:Asia/Tokyo
BEGIN:STANDARD
TZOFFSETFROM:+0900
TZOFFSETTO:+0900
TZNAME:JST
DTSTART:20230101T000000
END:STANDARD
END:VTIMEZONE
BEGIN:VEVENT
DTSTART;TZID=Asia/Tokyo:20240309T103000
DTEND;TZID=Asia/Tokyo:20240309T113000
DTSTAMP:20260423T140221
CREATED:20240227T065814Z
LAST-MODIFIED:20240227T085838Z
UID:1725-1709980200-1709983800@gunmapedia.com
SUMMARY:Digging Through Time ～どうやって化石はできるの？～
DESCRIPTION:【公式説明】 \nDigging Through Time ～どうやって化石はできるの？～\n\n\n期間　2024年3月9日(土)\n時間　10:30～11:30（受付10:00～）\n場所　博物館　実験室\n対象　小学校3年生～小学校6年生とその家族\n定員　12組（先着順）\n参加費　無料\n講師　インディアナポリス子ども博物館スタッフ\n申し込み　博物館ホームページより予約\n\nその他　アメリカ・インディアナ州のインディアナポリス子ども博物館と当館実験室をオンラインでつなぎ、インディアナポリス子ども博物館のスタッフによる小学生（3年生～6年生）とその家族を対象としたワークショップを行います。 \n・地層や化石について学ぶオンラインワークショップです。\n・親子でご参加ください。\n・ワークショップは英語で行われますが、日本語の通訳があります。 \n※本ワークショップは、当館とアメリカ・インディアナ州のインディアナポリス子ども博物館との連携事業です。 \n\n\n\n関連リンク☆☆☆イベントの申込はこちらから☆☆☆
URL:https://gunmapedia.com/event/digging-through-time-%ef%bd%9e%e3%81%a9%e3%81%86%e3%82%84%e3%81%a3%e3%81%a6%e5%8c%96%e7%9f%b3%e3%81%af%e3%81%a7%e3%81%8d%e3%82%8b%e3%81%ae%ef%bc%9f%ef%bd%9e/
LOCATION:群馬県立自然史博物館\, 群馬県富岡市上黒岩１６７４−１\, 〒370-2345
ATTACH;FMTTYPE=image/jpeg:https://gunmapedia.com/wp-content/uploads/2024/02/20240309_009.jpg
END:VEVENT
END:VCALENDAR