BEGIN:VCALENDAR
VERSION:2.0
PRODID:-//グンマペディア　群馬の子育て情報 - ECPv6.15.17.1//NONSGML v1.0//EN
CALSCALE:GREGORIAN
METHOD:PUBLISH
X-WR-CALNAME:グンマペディア　群馬の子育て情報
X-ORIGINAL-URL:https://gunmapedia.com
X-WR-CALDESC:グンマペディア　群馬の子育て情報 のイベント
REFRESH-INTERVAL;VALUE=DURATION:PT1H
X-Robots-Tag:noindex
X-PUBLISHED-TTL:PT1H
BEGIN:VTIMEZONE
TZID:Asia/Tokyo
BEGIN:STANDARD
TZOFFSETFROM:+0900
TZOFFSETTO:+0900
TZNAME:JST
DTSTART:20230101T000000
END:STANDARD
END:VTIMEZONE
BEGIN:VEVENT
DTSTART;VALUE=DATE:20240427
DTEND;VALUE=DATE:20240507
DTSTAMP:20260424T014550
CREATED:20240415T065036Z
LAST-MODIFIED:20240415T085300Z
UID:2256-1714176000-1715039999@gunmapedia.com
SUMMARY:イオンモール高崎のGWイベント
DESCRIPTION:～4/27(土)~5/6(月・祝)～ \nGWのりものフェスタ\n＝▼＝▼＝▼＝▼＝▼＝▼＝▼＝▼＝ \n▼気になるイベントをクリック！！▼ \n●4月27日(土)～4月29日(月・祝)　わくわく鉄道おもちゃパーク\n\n●4月27日(土)～4月29日(月・祝)　館内ロードトレイン\n\n●5月3日(金・祝)　＊先着200名さま　段ボール飛行機工作\n\n●5月4日(土・祝)　＊先着200名さま　パタパタ飛行機工作\n\n●5月5日(日)～6日(月・祝)【こどもの日】JALなりきり制服体験イベント\n\n>>>キッズクラブご入会はこちら<<<\n\n★【イオンモールGW】見どころは\n>>>☆こちら♪<<<
URL:https://gunmapedia.com/event/%e3%82%a4%e3%82%aa%e3%83%b3%e3%83%a2%e3%83%bc%e3%83%ab%e9%ab%98%e5%b4%8e%e3%81%aegw%e3%82%a4%e3%83%99%e3%83%b3%e3%83%88/
LOCATION:イオンモール高崎\, 群馬県高崎市棟高町1400
ATTACH;FMTTYPE=image/jpeg:https://gunmapedia.com/wp-content/uploads/2024/04/20240427_009.jpg
END:VEVENT
BEGIN:VEVENT
DTSTART;TZID=Asia/Tokyo:20240506T103000
DTEND;TZID=Asia/Tokyo:20240506T150000
DTSTAMP:20260424T014550
CREATED:20240409T073147Z
LAST-MODIFIED:20240411T051631Z
UID:2178-1714991400-1715007600@gunmapedia.com
SUMMARY:【事前予約制】チャレンジクラフト「麻ひもdeコースター」
DESCRIPTION:【公式説明】 \n\n麻ひもとアイス棒を使って、簡単かわいいコースターをつくるよ！\nコップを置くのはもちろん、飾りにすることもできます。 \n\n\n \n\n\n\n\n日にち\n5月6日(月・祝)\n\n\n時間\n①10:30～11:30\n②14:00～15:00\n(15分前から受付開始)\n\n\n会場\n3階 研修室\n\n\n対象\n年長児～中学3年生\n(年長児～小学3年生は保護者同伴)\n\n\n定員\n各回先着15名\n\n\n参加費\n100円\n\n\n事前申込\n4月5日(金)9:00～\n電話またはチラシ添付の申込用紙でお申込みください
URL:https://gunmapedia.com/event/%e3%80%90%e4%ba%8b%e5%89%8d%e4%ba%88%e7%b4%84%e5%88%b6%e3%80%91%e3%83%81%e3%83%a3%e3%83%ac%e3%83%b3%e3%82%b8%e3%82%af%e3%83%a9%e3%83%95%e3%83%88%e3%80%8c%e9%ba%bb%e3%81%b2%e3%82%82de%e3%82%b3%e3%83%bc/
LOCATION:ぐんまこどもの国児童会館\, 群馬県太田市長手町480\, 〒373-0054
ATTACH;FMTTYPE=image/jpeg:https://gunmapedia.com/wp-content/uploads/2024/04/20240506_001.jpg
END:VEVENT
BEGIN:VEVENT
DTSTART;TZID=Asia/Tokyo:20240511T100000
DTEND;TZID=Asia/Tokyo:20240511T150000
DTSTAMP:20260424T014550
CREATED:20240411T042925Z
LAST-MODIFIED:20240411T051740Z
UID:2225-1715421600-1715439600@gunmapedia.com
SUMMARY:モノガタリマルシェ
DESCRIPTION:【公式説明】\n次回は5月！\n人形劇は、「三匹のヤギのがらがらどん」と同じお話し「ぐるぐるぐるーふ」🐐✨ \nお楽しみに〜✨ \n@yamanekoza_gunma\n@nuu__nami\n@pizza_mura\n@ma_ya_staff\n@678_ido_toshokan\nand more…
URL:https://gunmapedia.com/event/%e3%83%a2%e3%83%8e%e3%82%ac%e3%82%bf%e3%83%aa%e3%83%9e%e3%83%ab%e3%82%b7%e3%82%a7-2/
LOCATION:まーやの家\, 群馬県前橋市亀里町１２０９\, 〒379-2147
ATTACH;FMTTYPE=image/jpeg:https://gunmapedia.com/wp-content/uploads/2024/04/20240511_002.jpg
END:VEVENT
BEGIN:VEVENT
DTSTART;TZID=Asia/Tokyo:20240518T080000
DTEND;TZID=Asia/Tokyo:20240518T170000
DTSTAMP:20260424T014550
CREATED:20240422T032350Z
LAST-MODIFIED:20240513T060313Z
UID:2351-1716019200-1716051600@gunmapedia.com
SUMMARY:科学館MayMarket
DESCRIPTION:【公式説明】 \n \n【お知らせ】5月18日（土）am10:00~pm15:30\n館林ウェストファームマーケットからの開催お知らせになります。\nさくら舞い散る春の季節になり、とても暖かい日が続くようになりましたね。\n5月の館林ウェストファームマーケットは向井千秋記念子ども科学館前にてお子様・ご家族向けにワークショップを中心とした店舗とキッチンカーや物販店がたちならびます。\n日頃、学校などではゆっくりとモノづくりの時間も限られてしまい、集中して楽しみながら、ハンドメイドでの作品を作ることもしづらいと思い、少しでもお子様たちにモノづくりの良さを知って頂こうと今回、科学館様と文化振興課様の協力も得ながら『科学館MayMarket』を開催致します。\n当日はスタンプラリーをすると文化振興課様の里沼キャラクターのカードが都度いただけたり、夜の19:00からは向井千秋記念子ども科学館の上で夜間天体観望会を開催したりします。\n朝から夜まで楽しめるイベントが目白押しのため是非、みなさまご家族・お子様・ご友人の方々とご来場くださいませ！\nお待ち申し上げております。
URL:https://gunmapedia.com/event/%e7%a7%91%e5%ad%a6%e9%a4%a8maymarket/
LOCATION:向井千秋記念子ども科学館\, 館林市城町2-2
ATTACH;FMTTYPE=image/jpeg:https://gunmapedia.com/wp-content/uploads/2024/04/20240518_005.jpg
END:VEVENT
END:VCALENDAR