BEGIN:VCALENDAR
VERSION:2.0
PRODID:-//グンマペディア　群馬の子育て情報 - ECPv6.15.17.1//NONSGML v1.0//EN
CALSCALE:GREGORIAN
METHOD:PUBLISH
X-WR-CALNAME:グンマペディア　群馬の子育て情報
X-ORIGINAL-URL:https://gunmapedia.com
X-WR-CALDESC:グンマペディア　群馬の子育て情報 のイベント
REFRESH-INTERVAL;VALUE=DURATION:PT1H
X-Robots-Tag:noindex
X-PUBLISHED-TTL:PT1H
BEGIN:VTIMEZONE
TZID:Asia/Tokyo
BEGIN:STANDARD
TZOFFSETFROM:+0900
TZOFFSETTO:+0900
TZNAME:JST
DTSTART:20220101T000000
END:STANDARD
END:VTIMEZONE
BEGIN:VEVENT
DTSTART;TZID=Asia/Tokyo:20231129T000000
DTEND;TZID=Asia/Tokyo:20231129T000000
DTSTAMP:20260423T145528
CREATED:20231129T075503Z
LAST-MODIFIED:20231226T083042Z
UID:437-1701216000-1701216000@gunmapedia.com
SUMMARY:ポケモンセンター出張所 in スマーク伊勢崎
DESCRIPTION:【公式説明】\nポケモンセンター出張所、スマーク伊勢崎にあらわる！！\nポケモンオリジナル商品を取り扱うポケモンセンターの出張所が10月20日（金）～2024年1月8日（月祝）の期間でオープン！！ \nポケモンの商品が盛りだくさん♪\n3F特設会場（あかぎエリア）でポケモンカードゲームエリアも同時開催です！！ \n※現状予定している商品であり、取扱商品につきましては変更の可能性もございますので、 予めご了承ください。\n※個別商品に関しましても、 販売状況による変動のため、商品有無のご確認ならびにお取り置きは行っておりません。予めご了承ください。\n※全国のポケモンセンター・ストアにて実施中の各種サービスは、 出張所では対象外となりますのでご了承ください。\n※その他注意事項は、イベント詳細ページにてご確認の上ご来場下さい。 \n【ポイント】\nみんな大好きポケモンセンターの出張所がスマークに来ています。ただ、ポケカ人気で大人が行列をなしているのはちょっと残念ですね…。
URL:https://gunmapedia.com/event/%e3%83%9d%e3%82%b1%e3%83%a2%e3%83%b3%e3%82%bb%e3%83%b3%e3%82%bf%e3%83%bc%e5%87%ba%e5%bc%b5%e6%89%80-in-%e3%82%b9%e3%83%9e%e3%83%bc%e3%82%af%e4%bc%8a%e5%8b%a2%e5%b4%8e/
ATTACH;FMTTYPE=image/jpeg:https://gunmapedia.com/wp-content/uploads/2023/11/20231020_001.jpg
END:VEVENT
END:VCALENDAR